Workbook

Sheet Bottles & cans
A1: Beer | B1: Bottle or can | C1: Size (oz) | D1: Per case | E1: Walk-in cases | F1: Walk-in singles | G1: Bar singles | H1: Total units | I1: Total cases | J1: Par (units) | K1: Order (units)
A2: Domestic
D3: 24 | H3: =IF(A3="","",E3*D3+F3+G3) | I3: =IF(OR(A3="",D3=0),"",ROUND(H3/D3,2)) | K3: =IF(OR(A3="",J3=""),"",MAX(J3-H3,0))
D4: 24 | H4: =IF(A4="","",E4*D4+F4+G4) | I4: =IF(OR(A4="",D4=0),"",ROUND(H4/D4,2)) | K4: =IF(OR(A4="",J4=""),"",MAX(J4-H4,0))
D5: 24 | H5: =IF(A5="","",E5*D5+F5+G5) | I5: =IF(OR(A5="",D5=0),"",ROUND(H5/D5,2)) | K5: =IF(OR(A5="",J5=""),"",MAX(J5-H5,0))
D6: 24 | H6: =IF(A6="","",E6*D6+F6+G6) | I6: =IF(OR(A6="",D6=0),"",ROUND(H6/D6,2)) | K6: =IF(OR(A6="",J6=""),"",MAX(J6-H6,0))
D7: 24 | H7: =IF(A7="","",E7*D7+F7+G7) | I7: =IF(OR(A7="",D7=0),"",ROUND(H7/D7,2)) | K7: =IF(OR(A7="",J7=""),"",MAX(J7-H7,0))
D8: 24 | H8: =IF(A8="","",E8*D8+F8+G8) | I8: =IF(OR(A8="",D8=0),"",ROUND(H8/D8,2)) | K8: =IF(OR(A8="",J8=""),"",MAX(J8-H8,0))
A9: Import
D10: 24 | H10: =IF(A10="","",E10*D10+F10+G10) | I10: =IF(OR(A10="",D10=0),"",ROUND(H10/D10,2)) | K10: =IF(OR(A10="",J10=""),"",MAX(J10-H10,0))
D11: 24 | H11: =IF(A11="","",E11*D11+F11+G11) | I11: =IF(OR(A11="",D11=0),"",ROUND(H11/D11,2)) | K11: =IF(OR(A11="",J11=""),"",MAX(J11-H11,0))
D12: 24 | H12: =IF(A12="","",E12*D12+F12+G12) | I12: =IF(OR(A12="",D12=0),"",ROUND(H12/D12,2)) | K12: =IF(OR(A12="",J12=""),"",MAX(J12-H12,0))
D13: 24 | H13: =IF(A13="","",E13*D13+F13+G13) | I13: =IF(OR(A13="",D13=0),"",ROUND(H13/D13,2)) | K13: =IF(OR(A13="",J13=""),"",MAX(J13-H13,0))
D14: 24 | H14: =IF(A14="","",E14*D14+F14+G14) | I14: =IF(OR(A14="",D14=0),"",ROUND(H14/D14,2)) | K14: =IF(OR(A14="",J14=""),"",MAX(J14-H14,0))
D15: 24 | H15: =IF(A15="","",E15*D15+F15+G15) | I15: =IF(OR(A15="",D15=0),"",ROUND(H15/D15,2)) | K15: =IF(OR(A15="",J15=""),"",MAX(J15-H15,0))
A16: Craft & local
D17: 24 | H17: =IF(A17="","",E17*D17+F17+G17) | I17: =IF(OR(A17="",D17=0),"",ROUND(H17/D17,2)) | K17: =IF(OR(A17="",J17=""),"",MAX(J17-H17,0))
D18: 24 | H18: =IF(A18="","",E18*D18+F18+G18) | I18: =IF(OR(A18="",D18=0),"",ROUND(H18/D18,2)) | K18: =IF(OR(A18="",J18=""),"",MAX(J18-H18,0))
D19: 24 | H19: =IF(A19="","",E19*D19+F19+G19) | I19: =IF(OR(A19="",D19=0),"",ROUND(H19/D19,2)) | K19: =IF(OR(A19="",J19=""),"",MAX(J19-H19,0))
D20: 24 | H20: =IF(A20="","",E20*D20+F20+G20) | I20: =IF(OR(A20="",D20=0),"",ROUND(H20/D20,2)) | K20: =IF(OR(A20="",J20=""),"",MAX(J20-H20,0))
D21: 24 | H21: =IF(A21="","",E21*D21+F21+G21) | I21: =IF(OR(A21="",D21=0),"",ROUND(H21/D21,2)) | K21: =IF(OR(A21="",J21=""),"",MAX(J21-H21,0))
D22: 24 | H22: =IF(A22="","",E22*D22+F22+G22) | I22: =IF(OR(A22="",D22=0),"",ROUND(H22/D22,2)) | K22: =IF(OR(A22="",J22=""),"",MAX(J22-H22,0))
A23: Seltzer & cider
D24: 24 | H24: =IF(A24="","",E24*D24+F24+G24) | I24: =IF(OR(A24="",D24=0),"",ROUND(H24/D24,2)) | K24: =IF(OR(A24="",J24=""),"",MAX(J24-H24,0))
D25: 24 | H25: =IF(A25="","",E25*D25+F25+G25) | I25: =IF(OR(A25="",D25=0),"",ROUND(H25/D25,2)) | K25: =IF(OR(A25="",J25=""),"",MAX(J25-H25,0))
D26: 24 | H26: =IF(A26="","",E26*D26+F26+G26) | I26: =IF(OR(A26="",D26=0),"",ROUND(H26/D26,2)) | K26: =IF(OR(A26="",J26=""),"",MAX(J26-H26,0))
D27: 24 | H27: =IF(A27="","",E27*D27+F27+G27) | I27: =IF(OR(A27="",D27=0),"",ROUND(H27/D27,2)) | K27: =IF(OR(A27="",J27=""),"",MAX(J27-H27,0))
D28: 24 | H28: =IF(A28="","",E28*D28+F28+G28) | I28: =IF(OR(A28="",D28=0),"",ROUND(H28/D28,2)) | K28: =IF(OR(A28="",J28=""),"",MAX(J28-H28,0))
D29: 24 | H29: =IF(A29="","",E29*D29+F29+G29) | I29: =IF(OR(A29="",D29=0),"",ROUND(H29/D29,2)) | K29: =IF(OR(A29="",J29=""),"",MAX(J29-H29,0))
A30: Non-alcoholic
D31: 24 | H31: =IF(A31="","",E31*D31+F31+G31) | I31: =IF(OR(A31="",D31=0),"",ROUND(H31/D31,2)) | K31: =IF(OR(A31="",J31=""),"",MAX(J31-H31,0))
D32: 24 | H32: =IF(A32="","",E32*D32+F32+G32) | I32: =IF(OR(A32="",D32=0),"",ROUND(H32/D32,2)) | K32: =IF(OR(A32="",J32=""),"",MAX(J32-H32,0))
D33: 24 | H33: =IF(A33="","",E33*D33+F33+G33) | I33: =IF(OR(A33="",D33=0),"",ROUND(H33/D33,2)) | K33: =IF(OR(A33="",J33=""),"",MAX(J33-H33,0))
D34: 24 | H34: =IF(A34="","",E34*D34+F34+G34) | I34: =IF(OR(A34="",D34=0),"",ROUND(H34/D34,2)) | K34: =IF(OR(A34="",J34=""),"",MAX(J34-H34,0))
D35: 24 | H35: =IF(A35="","",E35*D35+F35+G35) | I35: =IF(OR(A35="",D35=0),"",ROUND(H35/D35,2)) | K35: =IF(OR(A35="",J35=""),"",MAX(J35-H35,0))
D36: 24 | H36: =IF(A36="","",E36*D36+F36+G36) | I36: =IF(OR(A36="",D36=0),"",ROUND(H36/D36,2)) | K36: =IF(OR(A36="",J36=""),"",MAX(J36-H36,0))

Sheet Kegs
A1: Beer on tap | B1: Keg size | C1: Full kegs | D1: Open keg on scale (lb) | E1: Empty keg (lb) | F1: Gallons in open keg | G1: Total gallons | H1: Pints left (16 oz) | I1: Par (kegs) | J1: Order (kegs)
F2: =IF(OR(A2="",D2="",E2=""),"",ROUND(MAX(D2-E2,0)/8.4,2)) | G2: =IF(OR(A2="",B2=""),"",C2*VLOOKUP(B2,'Keg sizes'!$A$2:$B$6,2,FALSE)+IF(F2="",0,F2)) | H2: =IF(G2="","",ROUND(G2*8,0)) | J2: =IF(OR(A2="",I2=""),"",MAX(I2-C2,0))
F3: =IF(OR(A3="",D3="",E3=""),"",ROUND(MAX(D3-E3,0)/8.4,2)) | G3: =IF(OR(A3="",B3=""),"",C3*VLOOKUP(B3,'Keg sizes'!$A$2:$B$6,2,FALSE)+IF(F3="",0,F3)) | H3: =IF(G3="","",ROUND(G3*8,0)) | J3: =IF(OR(A3="",I3=""),"",MAX(I3-C3,0))
F4: =IF(OR(A4="",D4="",E4=""),"",ROUND(MAX(D4-E4,0)/8.4,2)) | G4: =IF(OR(A4="",B4=""),"",C4*VLOOKUP(B4,'Keg sizes'!$A$2:$B$6,2,FALSE)+IF(F4="",0,F4)) | H4: =IF(G4="","",ROUND(G4*8,0)) | J4: =IF(OR(A4="",I4=""),"",MAX(I4-C4,0))
F5: =IF(OR(A5="",D5="",E5=""),"",ROUND(MAX(D5-E5,0)/8.4,2)) | G5: =IF(OR(A5="",B5=""),"",C5*VLOOKUP(B5,'Keg sizes'!$A$2:$B$6,2,FALSE)+IF(F5="",0,F5)) | H5: =IF(G5="","",ROUND(G5*8,0)) | J5: =IF(OR(A5="",I5=""),"",MAX(I5-C5,0))
F6: =IF(OR(A6="",D6="",E6=""),"",ROUND(MAX(D6-E6,0)/8.4,2)) | G6: =IF(OR(A6="",B6=""),"",C6*VLOOKUP(B6,'Keg sizes'!$A$2:$B$6,2,FALSE)+IF(F6="",0,F6)) | H6: =IF(G6="","",ROUND(G6*8,0)) | J6: =IF(OR(A6="",I6=""),"",MAX(I6-C6,0))
F7: =IF(OR(A7="",D7="",E7=""),"",ROUND(MAX(D7-E7,0)/8.4,2)) | G7: =IF(OR(A7="",B7=""),"",C7*VLOOKUP(B7,'Keg sizes'!$A$2:$B$6,2,FALSE)+IF(F7="",0,F7)) | H7: =IF(G7="","",ROUND(G7*8,0)) | J7: =IF(OR(A7="",I7=""),"",MAX(I7-C7,0))
F8: =IF(OR(A8="",D8="",E8=""),"",ROUND(MAX(D8-E8,0)/8.4,2)) | G8: =IF(OR(A8="",B8=""),"",C8*VLOOKUP(B8,'Keg sizes'!$A$2:$B$6,2,FALSE)+IF(F8="",0,F8)) | H8: =IF(G8="","",ROUND(G8*8,0)) | J8: =IF(OR(A8="",I8=""),"",MAX(I8-C8,0))
F9: =IF(OR(A9="",D9="",E9=""),"",ROUND(MAX(D9-E9,0)/8.4,2)) | G9: =IF(OR(A9="",B9=""),"",C9*VLOOKUP(B9,'Keg sizes'!$A$2:$B$6,2,FALSE)+IF(F9="",0,F9)) | H9: =IF(G9="","",ROUND(G9*8,0)) | J9: =IF(OR(A9="",I9=""),"",MAX(I9-C9,0))
F10: =IF(OR(A10="",D10="",E10=""),"",ROUND(MAX(D10-E10,0)/8.4,2)) | G10: =IF(OR(A10="",B10=""),"",C10*VLOOKUP(B10,'Keg sizes'!$A$2:$B$6,2,FALSE)+IF(F10="",0,F10)) | H10: =IF(G10="","",ROUND(G10*8,0)) | J10: =IF(OR(A10="",I10=""),"",MAX(I10-C10,0))
F11: =IF(OR(A11="",D11="",E11=""),"",ROUND(MAX(D11-E11,0)/8.4,2)) | G11: =IF(OR(A11="",B11=""),"",C11*VLOOKUP(B11,'Keg sizes'!$A$2:$B$6,2,FALSE)+IF(F11="",0,F11)) | H11: =IF(G11="","",ROUND(G11*8,0)) | J11: =IF(OR(A11="",I11=""),"",MAX(I11-C11,0))
F12: =IF(OR(A12="",D12="",E12=""),"",ROUND(MAX(D12-E12,0)/8.4,2)) | G12: =IF(OR(A12="",B12=""),"",C12*VLOOKUP(B12,'Keg sizes'!$A$2:$B$6,2,FALSE)+IF(F12="",0,F12)) | H12: =IF(G12="","",ROUND(G12*8,0)) | J12: =IF(OR(A12="",I12=""),"",MAX(I12-C12,0))
F13: =IF(OR(A13="",D13="",E13=""),"",ROUND(MAX(D13-E13,0)/8.4,2)) | G13: =IF(OR(A13="",B13=""),"",C13*VLOOKUP(B13,'Keg sizes'!$A$2:$B$6,2,FALSE)+IF(F13="",0,F13)) | H13: =IF(G13="","",ROUND(G13*8,0)) | J13: =IF(OR(A13="",I13=""),"",MAX(I13-C13,0))
... F25: =IF(OR(A25="",D25="",E25=""),"",ROUND(MAX(D25-E25,0)/8.4,2)) | G25: =IF(OR(A25="",B25=""),"",C25*VLOOKUP(B25,'Keg sizes'!$A$2:$B$6,2,FALSE)+IF(F25="",0,F25)) | H25: =IF(G25="","",ROUND(G25*8,0)) | J25: =IF(OR(A25="",I25=""),"",MAX(I25-C25,0))

Sheet Keg sizes
A1: Keg | B1: Gallons | C1: 16 oz pints | D1: 12 oz pours
A2: 1/2 barrel | B2: 15.5 | C2: =ROUND(B2*128/16,0) | D2: =ROUND(B2*128/12,0)
A3: 1/4 barrel (pony) | B3: 7.75 | C3: =ROUND(B3*128/16,0) | D3: =ROUND(B3*128/12,0)
A4: Slim 1/4 barrel | B4: 7.75 | C4: =ROUND(B4*128/16,0) | D4: =ROUND(B4*128/12,0)
A5: 1/6 barrel (sixtel) | B5: 5.16 | C5: =ROUND(B5*128/16,0) | D5: =ROUND(B5*128/12,0)
A6: 50 liter | B6: 13.2 | C6: =ROUND(B6*128/16,0) | D6: =ROUND(B6*128/12,0)
A8: Beer weighs about 8.4 lb a gallon. Weigh one empty keg of each size once and use that number on the Kegs sheet.
